
BEGIN:VCALENDAR
VERSION:2.0
PRODID:-//wp-events-plugin.com//7.2.3.1//EN
TZID:Europe/Vienna
X-WR-TIMEZONE:Europe/Vienna
BEGIN:VEVENT
UID:65@beyourstory.at
DTSTART;TZID=Europe/Vienna;VALUE=DATE:20260611
DTEND;TZID=Europe/Vienna;VALUE=DATE:20260612
DTSTAMP:20260224T181322Z
URL:https://www.beyourstory.at/events/impactful-speaking-workshop-sprechen
 -das-traegt-auch-jenseits-von-folien-und-fakten-juni-2026/
SUMMARY:Impactful Speaking Workshop: Sprechen das trägt - auch jenseits vo
 n Folien und Fakten Juni 2026
DESCRIPTION:Im Seminar zu Impactful Speaking machen wir aus einem Vortrag e
 inen Moment der Verbindung\, einen Moment\, der Wirkung hat. Damit du nich
 t einfach nur "gut" präsentierst\, sondern Eindruck hinterlässt.\nErober
 e den Raum\, entfessle dein Redetalent – und lass uns gemeinsam dafür s
 orgen\, dass du strahlst!\n\nMit attraktiven Förderungen!
ATTACH;FMTTYPE=image/jpeg:https://www.beyourstory.at/wp-content/uploads/20
 19/11/IMG_20191113_133938-scaled-e1616501524594.jpg
LOCATION:be your story-Space im Zentrum Wiens\, Kolingasse 3\, Wien\, 1090\
 , Österreich
X-APPLE-STRUCTURED-LOCATION;VALUE=URI;X-ADDRESS=Kolingasse 3\, Wien\, 1090\
 , Österreich;X-APPLE-RADIUS=100;X-TITLE=be your story-Space im Zentrum Wi
 ens:geo:0,0
END:VEVENT
BEGIN:VTIMEZONE
TZID:Europe/Vienna
X-LIC-LOCATION:Europe/Vienna
BEGIN:DAYLIGHT
DTSTART:20260329T030000
TZOFFSETFROM:+0100
TZOFFSETTO:+0200
TZNAME:CEST
END:DAYLIGHT
END:VTIMEZONE
END:VCALENDAR