
BEGIN:VCALENDAR
VERSION:2.0
PRODID:-//wp-events-plugin.com//7.2.3.1//EN
TZID:Europe/Vienna
X-WR-TIMEZONE:Europe/Vienna
BEGIN:VEVENT
UID:66@beyourstory.at
DTSTART;TZID=Europe/Vienna;VALUE=DATE:20260513
DTEND;TZID=Europe/Vienna;VALUE=DATE:20260514
DTSTAMP:20260224T181419Z
URL:https://www.beyourstory.at/events/personal-branding-workshop-strahle-m
 it-deiner-story-based-identity-fruehling-2026/
SUMMARY:Personal Branding Workshop: Strahle mit Deiner Story Based Identity
 ©  Frühling 2026
DESCRIPTION:Mit einer starken persönlichen Marke sorgst du für Eindruck u
 nd hebst dich von der Masse ab - auch wenn du gerade einmal nicht anwesend
  bist. Du bleibst im Gedächtnis und machst deine Position klar.\nBist du 
 bereit\, deinen Personal Brand zu entdecken\, der dich auf social media-K
 anälen von anderen abhebt und in deiner Kommunikation Türen öffnet und 
 Dialoge startet?\nMit attraktiven Förderungen!
ATTACH;FMTTYPE=image/jpeg:https://www.beyourstory.at/wp-content/uploads/20
 19/11/IMG_20191113_133938-scaled-e1616501524594.jpg
LOCATION:be your story-Space im Zentrum Wiens\, Kolingasse 3\, Wien\, 1090\
 , Österreich
X-APPLE-STRUCTURED-LOCATION;VALUE=URI;X-ADDRESS=Kolingasse 3\, Wien\, 1090\
 , Österreich;X-APPLE-RADIUS=100;X-TITLE=be your story-Space im Zentrum Wi
 ens:geo:0,0
END:VEVENT
BEGIN:VTIMEZONE
TZID:Europe/Vienna
X-LIC-LOCATION:Europe/Vienna
BEGIN:DAYLIGHT
DTSTART:20260329T030000
TZOFFSETFROM:+0100
TZOFFSETTO:+0200
TZNAME:CEST
END:DAYLIGHT
END:VTIMEZONE
END:VCALENDAR