
BEGIN:VCALENDAR
VERSION:2.0
PRODID:-//wp-events-plugin.com//7.2.3.1//EN
TZID:Europe/Vienna
X-WR-TIMEZONE:Europe/Vienna
BEGIN:VEVENT
UID:62@beyourstory.at
DTSTART;TZID=Europe/Vienna;VALUE=DATE:20260528
DTEND;TZID=Europe/Vienna;VALUE=DATE:20260530
DTSTAMP:20260410T121200Z
URL:https://www.beyourstory.at/events/storytelling-seminar-fuer-business-2
 -tage-in-wien-2/
SUMMARY:Storytelling Seminar für Business 2 Tage in Wien
DESCRIPTION:Wie setze ich Storytelling ein\, um der Informationsflut entgeg
 enzuwirken?\nWie mache ich meine Texte\, Vorträge und Wortmeldungen in Me
 etings charismatisch und überzeugend? Wie lasse ich mit der Kraft von Sto
 rys den Funken überspringen?\n
ATTACH;FMTTYPE=image/jpeg:https://www.beyourstory.at/wp-content/uploads/20
 19/11/IMG_20191113_133938-scaled-e1616501524594.jpg
LOCATION:be your story-Space im Zentrum Wiens\, Kolingasse 3\, Wien\, 1090\
 , Österreich
X-APPLE-STRUCTURED-LOCATION;VALUE=URI;X-ADDRESS=Kolingasse 3\, Wien\, 1090\
 , Österreich;X-APPLE-RADIUS=100;X-TITLE=be your story-Space im Zentrum Wi
 ens:geo:0,0
END:VEVENT
BEGIN:VTIMEZONE
TZID:Europe/Vienna
X-LIC-LOCATION:Europe/Vienna
BEGIN:DAYLIGHT
DTSTART:20260329T030000
TZOFFSETFROM:+0100
TZOFFSETTO:+0200
TZNAME:CEST
END:DAYLIGHT
END:VTIMEZONE
END:VCALENDAR